!table
!version 300
!charset WindowsLatin1

Definition Table
  File "C:\Program Files\Lizardtech\MrSID Viewer\Images\c0011294.tif"
  Type "RASTER"
  (0, 110.88) (0,0)Label "TopLeft",
  (95.52, 110.88) (9552, 0) Label "TopRight",
  (0, 0) (0, 11088) Label "BottomLeft",
  (95.52, 0) (9552, 11088) Label "BottomRight"
  CoordSys NonEarth
  Units "in"
  Units "in"
